BEGIN:VCALENDAR
VERSION:2.0
PRODID:-//Squarespace Inc/Squarespace 6//v6//EN
BEGIN:VEVENT
UID:5c6a4a1b4785d32318c1e82a@squarespace.com
DTSTAMP:20190220T044201Z
DTSTART:20190305T013000Z
DTEND:20190305T033000Z
SUMMARY:March Coffee Morning
GEO:-31.965136;115.815831
LOCATION:Muscular Dystrophy WA\, Suite B The Niche 11 Aberdare Road\, NEDLA
 NDS\, WA 6009\, Australia
END:VEVENT
END:VCALENDAR
