BEGIN:VCALENDAR
VERSION:2.0
PRODID:-//Squarespace Inc/Squarespace 6//v6//EN
BEGIN:VEVENT
UID:5c8f37bd7817f775cf490a12@squarespace.com
DTSTAMP:20190318T061855Z
DTSTART:20190325T080000Z
DTEND:20190325T090000Z
SUMMARY:Hale Mates Term 1 Week 3
GEO:0.0;0.0
LOCATION:Hale School\, 160 Hale Road\, Wembley Downs\, Australia
END:VEVENT
END:VCALENDAR
