BEGIN:VCALENDAR
VERSION:2.0
PRODID:-//Squarespace Inc/Squarespace 6//v6//EN
BEGIN:VEVENT
UID:5c81e2931905f48bd3c65a9b@squarespace.com
DTSTAMP:20190308T051456Z
DTSTART:20190312T103000Z
DTEND:20190312T140000Z
SUMMARY:Male Carers Event - Quiz Night
GEO:-31.917433;115.890519
LOCATION:The Civic Hotel\, 981 Beaufort Street\, Inglewood\, Australia
END:VEVENT
END:VCALENDAR
