BEGIN:VCALENDAR
VERSION:2.0
PRODID:-//Squarespace Inc/Squarespace 6//v6//EN
BEGIN:VEVENT
UID:5c75dfebeb393114c85ac85d@squarespace.com
DTSTAMP:20190318T061614Z
DTSTART:20190311T080000Z
DTEND:20190311T090000Z
SUMMARY:Hale Mates Term 1 Week 2
GEO:-31.910526;115.781723
LOCATION:Hale School\, 160 Hale Road\, Wembley Downs\, Australia
END:VEVENT
END:VCALENDAR
