BEGIN:VCALENDAR
VERSION:2.0
PRODID:-//Squarespace Inc/Squarespace 6//v6//EN
BEGIN:VEVENT
UID:5c6b604271c10bf899823f97@squarespace.com
DTSTAMP:20190219T015717Z
DTSTART:20190225T080000Z
DTEND:20190225T090000Z
SUMMARY:Hale Mates Term 1 Week 1
GEO:-31.910526;115.781723
LOCATION:Hale School\, 160 Hale Road\, Wembley Downs\, Australia
END:VEVENT
END:VCALENDAR
