BEGIN:VCALENDAR
VERSION:2.0
PRODID:-//Squarespace Inc/Squarespace 6//v6//EN
BEGIN:VEVENT
UID:5c5bb258e5e5f02e133528ff@squarespace.com
DTSTAMP:20190212T034532Z
DTSTART:20190215T093000Z
DTEND:20190215T133000Z
SUMMARY:YASG Best of Fringe
GEO:-31.950281;115.862487
LOCATION:The Court Hotel\, 50 Beaufort Street\, Perth\, WA\, 6000\, Austral
 ia
END:VEVENT
END:VCALENDAR
