BEGIN:VCALENDAR
VERSION:2.0
PRODID:-//Squarespace Inc/Squarespace 6//v6//EN
BEGIN:VEVENT
UID:5dccf035034c412a866744b9@squarespace.com
DTSTAMP:20191127T023324Z
DTSTART:20191208T090000Z
DTEND:20191208T110000Z
SUMMARY:Carols at Scarborough
GEO:-31.895874;115.756644
LOCATION:Scarborough Beach Amphitheatre\, The Esplanade\, Scarborough\, WA\
 , 6019\, Australia
END:VEVENT
END:VCALENDAR
