BEGIN:VCALENDAR
VERSION:2.0
PRODID:-//Squarespace Inc/Squarespace 6//v6//EN
BEGIN:VEVENT
UID:5ddb6f67c040f62cf15e972d@squarespace.com
DTSTAMP:20191125T061256Z
DTSTART:20191211T103000Z
DTEND:20191211T133000Z
SUMMARY:YASG Dinner at The Camfield
GEO:-31.954162;115.892752
LOCATION:The Camfield\, Roger MacKay Drive\, Burswood\, WA\, 6100\, Austral
 ia
END:VEVENT
END:VCALENDAR
