BEGIN:VCALENDAR
VERSION:2.0
PRODID:-//Squarespace Inc/Squarespace 6//v6//EN
BEGIN:VEVENT
UID:5d241e39e6f76d0001010464@squarespace.com
DTSTAMP:20191104T073524Z
DTSTART:20191108T010000Z
DTEND:20191109T090000Z
SUMMARY:MD 2019
GEO:-31.93669;115.79335
LOCATION:The Boulevard Centre\, 99 The Boulevard\, Floreat\, WA\, 6014\, Au
 stralia
END:VEVENT
END:VCALENDAR
