BEGIN:VCALENDAR
VERSION:2.0
PRODID:-//Squarespace Inc/Squarespace 6//v6//EN
BEGIN:VEVENT
UID:5ddb725c7ef84f4613152b09@squarespace.com
DTSTAMP:20191125T062229Z
DTSTART:20191130T020000Z
DTEND:20191130T060000Z
SUMMARY:Hale Mates End of Year Party
GEO:-31.910526;115.781723
LOCATION:Fowler Oval at Hale School\, 160 Hale Road\, Wembley Downs\, Austr
 alia
END:VEVENT
END:VCALENDAR
