BEGIN:VCALENDAR
VERSION:2.0
PRODID:-//Squarespace Inc/Squarespace 6//v6//EN
BEGIN:VEVENT
UID:5d9edb181f444210caafa0bc@squarespace.com
DTSTAMP:20191010T071955Z
DTSTART:20191103T033000Z
DTEND:20191103T063000Z
SUMMARY:The Cheese Barrel - Young Adults Social Group 
GEO:-31.81207;116.02116
LOCATION:The Cheese Barrel\, 920 Great Northern Highway\, Millendon\, WA\, 
 6056\, Australia
END:VEVENT
END:VCALENDAR
