BEGIN:VCALENDAR
VERSION:2.0
PRODID:-//Squarespace Inc/Squarespace 6//v6//EN
BEGIN:VEVENT
UID:5c496041b8a0454731deeb07@squarespace.com
DTSTAMP:20191104T072000Z
DTSTART:20191124T020000Z
DTEND:20191124T050000Z
SUMMARY:Community Day
END:VEVENT
END:VCALENDAR
