BEGIN:VCALENDAR
VERSION:2.0
PRODID:-//Squarespace Inc/Squarespace 6//v6//EN
BEGIN:VEVENT
UID:5d9edce65f240b48acd6a093@squarespace.com
DTSTAMP:20191010T072858Z
DTSTART:20191116T040000Z
DTEND:20191116T060000Z
SUMMARY:Female Carers Event 
GEO:-32.034813;115.745627
LOCATION:Bib & Tucker\, 16 Leighton Boulevard\, North Fremantle\, Australia
END:VEVENT
END:VCALENDAR
