BEGIN:VCALENDAR
VERSION:2.0
PRODID:-//Squarespace Inc/Squarespace 6//v6//EN
BEGIN:VEVENT
UID:5c495620cd83661028397f5a@squarespace.com
DTSTAMP:20190802T040453Z
DTSTART:20191002T030000Z
DTEND:20191004T020000Z
SUMMARY:School Holiday Camp
GEO:-31.812842;115.733505
LOCATION:Ern Halliday Recreation Camp\, 140 Whitfords Ave\, Hillarys\, WA\, 
 6025\, Australia
END:VEVENT
END:VCALENDAR
