BEGIN:VCALENDAR
VERSION:2.0
PRODID:-//Squarespace Inc/Squarespace 6//v6//EN
BEGIN:VEVENT
UID:5c3be546c2241bdece842fa5@squarespace.com
DTSTAMP:20190125T003502Z
DTSTART:20190212T013000Z
DTEND:20190212T033000Z
SUMMARY:February Coffee Morning
GEO:-31.965136;115.815831
LOCATION:Muscular Dystrophy WA\, 11 Aberdare Road\, Nedlands\, Australia
END:VEVENT
END:VCALENDAR
