BEGIN:VCALENDAR
VERSION:2.0
PRODID:-//Squarespace Inc/Squarespace 6//v6//EN
BEGIN:VEVENT
UID:5ba4b3faeef1a1ae46c903af@squarespace.com
DTSTAMP:20180925T034312Z
DTSTART:20180922T150000Z
DTEND:20180924T193000Z
SUMMARY:School Holiday Camp
GEO:-31.815468;115.739298
LOCATION:Ern Halliday Recreation Camp\, Whitfords Avenue\, Hillarys\, Austr
 alia
END:VEVENT
END:VCALENDAR
