BEGIN:VCALENDAR
VERSION:2.0
PRODID:-//Squarespace Inc/Squarespace 6//v6//EN
BEGIN:VEVENT
UID:5bdfefba758d46ea7a4365e7@squarespace.com
DTSTAMP:20181105T072601Z
DTSTART:20181212T230000Z
DTEND:20181213T020000Z
SUMMARY:Male Carers Gin Masterclass
GEO:-31.937034;115.841689
LOCATION:Bill's Bar and Bites\, 742 Newcastle Street\, Leederville\, Austra
 lia
END:VEVENT
END:VCALENDAR
