BEGIN:VCALENDAR
VERSION:2.0
PRODID:-//Squarespace Inc/Squarespace 6//v6//EN
BEGIN:VEVENT
UID:5be925a02b6a281d5aff1c64@squarespace.com
DTSTAMP:20181112T070632Z
DTSTART:20181201T140000Z
DTEND:20181201T180000Z
SUMMARY:Hale Mates Pool Party
GEO:-31.913435;115.778126
LOCATION:Hale School\, Hale Road\, Wembley Downs\, Australia
END:VEVENT
END:VCALENDAR
