BEGIN:VCALENDAR
VERSION:2.0
PRODID:-//Squarespace Inc/Squarespace 6//v6//EN
BEGIN:VEVENT
UID:5bdfb8394ae2373920eff0d1@squarespace.com
DTSTAMP:20181105T032948Z
DTSTART:20181125T160000Z
DTEND:20181125T193000Z
SUMMARY:Community Day
GEO:-31.95953;115.824135
LOCATION:Variety Pavillion\, Saw Avenue\, Kings Park\, Perth\, WA\, Austral
 ia
END:VEVENT
END:VCALENDAR
