BEGIN:VCALENDAR
VERSION:2.0
PRODID:-//Squarespace Inc/Squarespace 6//v6//EN
BEGIN:VEVENT
UID:5bd6ae05652dea6b530a7f74@squarespace.com
DTSTAMP:20181029T065456Z
DTSTART:20181116T173000Z
DTEND:20181116T203000Z
SUMMARY:Female Carers High Tea
GEO:-31.955038;115.859431
LOCATION:C Restaurant\, St Martins Tower\, 44 St Georges Tce Perth\, Perth\
 , Australia
END:VEVENT
END:VCALENDAR
