BEGIN:VCALENDAR
VERSION:2.0
PRODID:-//Squarespace Inc/Squarespace 6//v6//EN
BEGIN:VEVENT
UID:5ba9af52e2c483e9c56577b8@squarespace.com
DTSTAMP:20180925T035208Z
DTSTART:20181012T220000Z
DTEND:20181013T030000Z
SUMMARY:YASG Oktoberfest Event
GEO:-31.951712;115.855243
LOCATION:Belgian Beer Cafe\, Cnr Murray Street & King Street\, Perth
END:VEVENT
END:VCALENDAR
