BEGIN:VCALENDAR
VERSION:2.0
PRODID:-//Squarespace Inc/Squarespace 6//v6//EN
BEGIN:VEVENT
UID:5c3fd248f950b7e303aff21b@squarespace.com
DTSTAMP:20200714T011457Z
DTSTART:20200922T030000Z
DTEND:20200922T120000Z
SUMMARY:Toyota WA Golf Classic
END:VEVENT
END:VCALENDAR
