BEGIN:VCALENDAR
VERSION:2.0
PRODID:-//Squarespace Inc/Squarespace 6//v6//EN
BEGIN:VEVENT
UID:5ed0832a8c3f6405dc5ada27@squarespace.com
DTSTAMP:20200529T033831Z
DTSTART:20200828T100000Z
DTEND:20200828T140000Z
SUMMARY:Kailis Club for MDWA 
END:VEVENT
END:VCALENDAR
