BEGIN:VCALENDAR
VERSION:2.0
PRODID:-//Squarespace Inc/Squarespace 6//v6//EN
BEGIN:VEVENT
UID:5ef99bcb2801f1255c2035c6@squarespace.com
DTSTAMP:20200630T065348Z
DTSTART:20200802T043000Z
DTEND:20200802T073000Z
SUMMARY:Sunday Lunch for MDWA
GEO:-31.92953;115.856719
LOCATION:The Old Laundry\, Angove Street\, North Perth\, WA\, 6006\, Austra
 lia
END:VEVENT
END:VCALENDAR
