BEGIN:VCALENDAR
VERSION:2.0
PRODID:-//Squarespace Inc/Squarespace 6//v6//EN
BEGIN:VEVENT
UID:5eb382e29579292ce878d3f2@squarespace.com
DTSTAMP:20200507T034339Z
DTSTART:20200508T080000Z
DTEND:20200508T090000Z
SUMMARY:Zoom Drinks
END:VEVENT
END:VCALENDAR
