BEGIN:VCALENDAR
VERSION:2.0
PRODID:-//Squarespace Inc/Squarespace 6//v6//EN
BEGIN:VEVENT
UID:5e6836676376a40e0ddd4d4d@squarespace.com
DTSTAMP:20200428T051630Z
DTSTART:20200503T020000Z
DTEND:20200503T090000Z
SUMMARY:Scarecrow Competition
GEO:-32.019795;116.101169
LOCATION:Myattsfield Vineyards\, Union Road\, Carmel\, WA\, 6076\, Australi
 a
END:VEVENT
END:VCALENDAR
