BEGIN:VCALENDAR
VERSION:2.0
PRODID:-//Squarespace Inc/Squarespace 6//v6//EN
BEGIN:VEVENT
UID:5eb0e28320f28c1741e55d8a@squarespace.com
DTSTAMP:20200507T033900Z
DTSTART:20200519T080000Z
DTEND:20200519T093000Z
SUMMARY:Annual General Meeting
END:VEVENT
END:VCALENDAR
