BEGIN:VCALENDAR
VERSION:2.0
PRODID:-//Squarespace Inc/Squarespace 6//v6//EN
BEGIN:VEVENT
UID:5c400fcc6d2a733daf9e3c64@squarespace.com
DTSTAMP:20190802T044501Z
DTSTART:20190906T223000Z
DTEND:20190907T093000Z
SUMMARY:Dwellingup 100
GEO:-32.712995;116.063308
LOCATION:Dwellingup Football Oval\, Moore Street\, Dwellingup\, WA\, 6213\, 
 Australia
END:VEVENT
END:VCALENDAR
