BEGIN:VCALENDAR
VERSION:2.0
PRODID:-//Squarespace Inc/Squarespace 6//v6//EN
BEGIN:VEVENT
UID:5c6a2018a4222f3378243694@squarespace.com
DTSTAMP:20200529T033610Z
DTSTART:20190830T100000Z
DTEND:20190830T140000Z
SUMMARY:Kailis Club for MDWA
END:VEVENT
END:VCALENDAR
