BEGIN:VCALENDAR
VERSION:2.0
PRODID:-//Squarespace Inc/Squarespace 6//v6//EN
BEGIN:VEVENT
UID:5c3feb644ae237e80531cf0e@squarespace.com
DTSTAMP:20190314T054331Z
DTSTART:20190626T100000Z
DTEND:20190626T140000Z
SUMMARY:Truffles for Muscles
END:VEVENT
END:VCALENDAR
