BEGIN:VCALENDAR
VERSION:2.0
PRODID:-//Squarespace Inc/Squarespace 6//v6//EN
BEGIN:VEVENT
UID:5c40104ac74c50276f0278ea@squarespace.com
DTSTAMP:20190314T055657Z
DTSTART:20190503T210000Z
DTEND:20190505T070000Z
SUMMARY:SunSmart Ironman 70.3 Busselton
GEO:-33.645296;115.345169
LOCATION:Barnard Park\, 3L Queen Street\, Busselton\, WA\, 6280\, Australia
END:VEVENT
END:VCALENDAR
