BEGIN:VCALENDAR
VERSION:2.0
PRODID:-//Squarespace Inc/Squarespace 6//v6//EN
BEGIN:VEVENT
UID:5cb803b3971a18521578d349@squarespace.com
DTSTAMP:20190506T072916Z
DTSTART:20190525T053000Z
DTEND:20190525T083000Z
SUMMARY:Long Table Lunch at Hampton &amp\; Maley
GEO:-31.965136;115.815831
LOCATION:Hampton & Maley\, 59 Albany Highway\, Victoria Park\, WA\, 6100\, 
 Australia
END:VEVENT
END:VCALENDAR
