BEGIN:VCALENDAR
VERSION:2.0
PRODID:-//Squarespace Inc/Squarespace 6//v6//EN
BEGIN:VEVENT
UID:5c3ff2eeb8a045cdbdf9a33a@squarespace.com
DTSTAMP:20200819T033906Z
DTSTART:20201023T033000Z
DTEND:20201023T110000Z
SUMMARY:Busselton Toyota Golf Day
GEO:-33.625628;115.112167
LOCATION:Dunsborough Lakes Golf Club\, 1 Clubhouse Drive\, Dunsborough\, WA
 \, 6281\, Australia
END:VEVENT
END:VCALENDAR
