BEGIN:VCALENDAR
VERSION:2.0
PRODID:-//Squarespace Inc/Squarespace 6//v6//EN
BEGIN:VEVENT
UID:5c3fec1188251be368ba612e@squarespace.com
DTSTAMP:20191001T030234Z
DTSTART:20191102T040000Z
DTEND:20191102T090000Z
SUMMARY:Marquee Day for MDWA
GEO:-31.938604;115.921161
LOCATION:Ascot Racecourse\, 70 Grandstand Road\, Ascot\, WA\, 6104\, Austra
 lia
END:VEVENT
END:VCALENDAR
